BEGIN:VCALENDAR
VERSION:2.0
PRODID:floktu.com
X-WR-TIMEZONE:Australia/Sydney
X-PUBLISHED-TTL:P1W
BEGIN:VEVENT
UID:FloktuEvent27120@floktu.com
DTSTART;TZID=Australia/Sydney:20210205T210000
SEQUENCE:0
TRANSP:OPAQUE
DTEND;TZID=Australia/Sydney:20210208T123000
LOCATION:Key Club\, 117 Lonsdale Street\, Melbourne\, Victoria
SUMMARY:ILOVE 05.02.21
DESCRIPTION:Visit https://iloveweek4.floktu.com for more information.
DTSTAMP:20260424T115709Z
END:VEVENT
BEGIN:VTIMEZONE
TZID:Australia/Sydney
X-LIC-LOCATION:Australia/Sydney
END:VTIMEZONE
END:VCALENDAR