BEGIN:VCALENDAR
VERSION:2.0
PRODID:floktu.com
X-PUBLISHED-TTL:P1W
BEGIN:VEVENT
UID:FloktuEvent27120@floktu.com
DTSTART:20210205T100000Z
SEQUENCE:0
TRANSP:OPAQUE
DTEND:20210208T013000Z
LOCATION:Key Club\, 117 Lonsdale Street\, Melbourne\, Victoria
SUMMARY:ILOVE 05.02.21
DESCRIPTION:Visit https://iloveweek4.floktu.com for more information.
DTSTAMP:20260424T115509Z
END:VEVENT
END:VCALENDAR